BEGIN:VCALENDAR
VERSION:2.0
PRODID:-//LL Creek Bar and Grill - Waycross GA - ECPv6.15.20//NONSGML v1.0//EN
CALSCALE:GREGORIAN
METHOD:PUBLISH
X-ORIGINAL-URL:https://llcreekbarandgrill.com
X-WR-CALDESC:Events for LL Creek Bar and Grill - Waycross GA
REFRESH-INTERVAL;VALUE=DURATION:PT1H
X-Robots-Tag:noindex
X-PUBLISHED-TTL:PT1H
BEGIN:VTIMEZONE
TZID:America/New_York
BEGIN:DAYLIGHT
TZOFFSETFROM:-0500
TZOFFSETTO:-0400
TZNAME:EDT
DTSTART:20240310T070000
END:DAYLIGHT
BEGIN:STANDARD
TZOFFSETFROM:-0400
TZOFFSETTO:-0500
TZNAME:EST
DTSTART:20241103T060000
END:STANDARD
BEGIN:DAYLIGHT
TZOFFSETFROM:-0500
TZOFFSETTO:-0400
TZNAME:EDT
DTSTART:20250309T070000
END:DAYLIGHT
BEGIN:STANDARD
TZOFFSETFROM:-0400
TZOFFSETTO:-0500
TZNAME:EST
DTSTART:20251102T060000
END:STANDARD
BEGIN:DAYLIGHT
TZOFFSETFROM:-0500
TZOFFSETTO:-0400
TZNAME:EDT
DTSTART:20260308T070000
END:DAYLIGHT
BEGIN:STANDARD
TZOFFSETFROM:-0400
TZOFFSETTO:-0500
TZNAME:EST
DTSTART:20261101T060000
END:STANDARD
END:VTIMEZONE
BEGIN:VEVENT
DTSTART;VALUE=DATE:20251129
DTEND;VALUE=DATE:20251130
DTSTAMP:20260419T132523
CREATED:20251016T224829Z
LAST-MODIFIED:20251124T183056Z
UID:1454-1764374400-1764460799@llcreekbarandgrill.com
SUMMARY:Hot Glue
DESCRIPTION:“Phenomenal musicians with a vibe like nothing you’ve ever seen. Fresh songs you’ll love instantly\, classics you’ll hear like never before.” — L. Danielle Davis \nHot Glue at Facebook
URL:https://llcreekbarandgrill.com/events/hot-glue/
ATTACH;FMTTYPE=image/png:https://llcreekbarandgrill.com/wp-content/uploads/2025/10/hotglue.png
END:VEVENT
END:VCALENDAR