BEGIN:VCALENDAR
VERSION:2.0
PRODID:-//LL Creek Bar and Grill - Waycross GA - ECPv6.15.20//NONSGML v1.0//EN
CALSCALE:GREGORIAN
METHOD:PUBLISH
X-ORIGINAL-URL:https://llcreekbarandgrill.com
X-WR-CALDESC:Events for LL Creek Bar and Grill - Waycross GA
REFRESH-INTERVAL;VALUE=DURATION:PT1H
X-Robots-Tag:noindex
X-PUBLISHED-TTL:PT1H
BEGIN:VTIMEZONE
TZID:America/New_York
BEGIN:DAYLIGHT
TZOFFSETFROM:-0500
TZOFFSETTO:-0400
TZNAME:EDT
DTSTART:20240310T070000
END:DAYLIGHT
BEGIN:STANDARD
TZOFFSETFROM:-0400
TZOFFSETTO:-0500
TZNAME:EST
DTSTART:20241103T060000
END:STANDARD
BEGIN:DAYLIGHT
TZOFFSETFROM:-0500
TZOFFSETTO:-0400
TZNAME:EDT
DTSTART:20250309T070000
END:DAYLIGHT
BEGIN:STANDARD
TZOFFSETFROM:-0400
TZOFFSETTO:-0500
TZNAME:EST
DTSTART:20251102T060000
END:STANDARD
BEGIN:DAYLIGHT
TZOFFSETFROM:-0500
TZOFFSETTO:-0400
TZNAME:EDT
DTSTART:20260308T070000
END:DAYLIGHT
BEGIN:STANDARD
TZOFFSETFROM:-0400
TZOFFSETTO:-0500
TZNAME:EST
DTSTART:20261101T060000
END:STANDARD
END:VTIMEZONE
BEGIN:VEVENT
DTSTART;VALUE=DATE:20251212
DTEND;VALUE=DATE:20251213
DTSTAMP:20260419T102831
CREATED:20251210T000523Z
LAST-MODIFIED:20251210T001001Z
UID:1497-1765497600-1765583999@llcreekbarandgrill.com
SUMMARY:Raybon Rock
DESCRIPTION:
URL:https://llcreekbarandgrill.com/events/raybon-rock/
ATTACH;FMTTYPE=image/jpeg:https://llcreekbarandgrill.com/wp-content/uploads/2025/12/596817250_1379656433951415_5014632358492595397_n-e1765325105779.jpg
END:VEVENT
END:VCALENDAR