BEGIN:VCALENDAR
VERSION:2.0
PRODID:-//LL Creek Bar and Grill - Waycross GA - ECPv6.15.20//NONSGML v1.0//EN
CALSCALE:GREGORIAN
METHOD:PUBLISH
X-ORIGINAL-URL:https://llcreekbarandgrill.com
X-WR-CALDESC:Events for LL Creek Bar and Grill - Waycross GA
REFRESH-INTERVAL;VALUE=DURATION:PT1H
X-Robots-Tag:noindex
X-PUBLISHED-TTL:PT1H
BEGIN:VTIMEZONE
TZID:America/New_York
BEGIN:DAYLIGHT
TZOFFSETFROM:-0500
TZOFFSETTO:-0400
TZNAME:EDT
DTSTART:20250309T070000
END:DAYLIGHT
BEGIN:STANDARD
TZOFFSETFROM:-0400
TZOFFSETTO:-0500
TZNAME:EST
DTSTART:20251102T060000
END:STANDARD
BEGIN:DAYLIGHT
TZOFFSETFROM:-0500
TZOFFSETTO:-0400
TZNAME:EDT
DTSTART:20260308T070000
END:DAYLIGHT
BEGIN:STANDARD
TZOFFSETFROM:-0400
TZOFFSETTO:-0500
TZNAME:EST
DTSTART:20261101T060000
END:STANDARD
BEGIN:DAYLIGHT
TZOFFSETFROM:-0500
TZOFFSETTO:-0400
TZNAME:EDT
DTSTART:20270314T070000
END:DAYLIGHT
BEGIN:STANDARD
TZOFFSETFROM:-0400
TZOFFSETTO:-0500
TZNAME:EST
DTSTART:20271107T060000
END:STANDARD
END:VTIMEZONE
BEGIN:VEVENT
DTSTART;VALUE=DATE:20260508
DTEND;VALUE=DATE:20260509
DTSTAMP:20260419T134321
CREATED:20260219T212323Z
LAST-MODIFIED:20260409T212224Z
UID:1750-1778198400-1778284799@llcreekbarandgrill.com
SUMMARY:Gabe Thrift + Family
DESCRIPTION:Gabe Thrift is a Georgia-based musician known for energetic live performances and a mix of acoustic covers and original songs.\ntiktok.com/@gabethriftmusic\nfacebook.com/gabe.thrift.7
URL:https://llcreekbarandgrill.com/events/gabe-thrift-family/
LOCATION:LL Creek Bar & Grill\, 421 Memorial Dr\, Waycross\, GA\, 31501\, United States
ATTACH;FMTTYPE=image/png:https://llcreekbarandgrill.com/wp-content/uploads/2024/12/gabethrift.png
END:VEVENT
END:VCALENDAR